Package: Dino Version: 1.12.0 Command: rm -rf Dino.buildbin-libdir && mkdir Dino.buildbin-libdir && /Users/biocbuild/BBS/utils/build-universal.sh Dino_1.12.0.tar.gz /Library/Frameworks/R.framework/Resources/bin/R Dino.buildbin-libdir StartedAt: 2025-01-31 12:41:59 -0500 (Fri, 31 Jan 2025) EndedAt: 2025-01-31 12:43:29 -0500 (Fri, 31 Jan 2025) EllapsedTime: 90.4 seconds RetCode: 0 Status: OK PackageFile: Dino_1.12.0.tgz PackageFileSize: 1.573 MiB