Package: Dino Version: 1.12.0 Command: /Library/Frameworks/R.framework/Resources/bin/R CMD build --keep-empty-dirs --no-resave-data Dino StartedAt: 2025-02-03 18:33:28 -0500 (Mon, 03 Feb 2025) EndedAt: 2025-02-03 18:37:43 -0500 (Mon, 03 Feb 2025) EllapsedTime: 254.8 seconds RetCode: 0 Status: OK PackageFile: Dino_1.12.0.tar.gz PackageFileSize: 1.532 MiB