Package: Dino Version: 1.12.0 Command: /home/biocbuild/bbs-3.20-bioc/R/bin/R CMD check --install=check:Dino.install-out.txt --library=/home/biocbuild/bbs-3.20-bioc/R/site-library --timings Dino_1.12.0.tar.gz StartedAt: 2025-01-30 21:42:00 -0500 (Thu, 30 Jan 2025) EndedAt: 2025-01-30 21:48:50 -0500 (Thu, 30 Jan 2025) EllapsedTime: 410.4 seconds RetCode: 0 Status: OK CheckDir: Dino.Rcheck Warnings: 0