Package: Dino Version: 1.12.0 Command: rm -rf Dino.buildbin-libdir && mkdir Dino.buildbin-libdir && F:\biocbuild\bbs-3.20-bioc\R\bin\R.exe CMD INSTALL --build --library=Dino.buildbin-libdir Dino_1.12.0.tar.gz StartedAt: 2025-01-31 08:33:04 -0500 (Fri, 31 Jan 2025) EndedAt: 2025-01-31 08:34:15 -0500 (Fri, 31 Jan 2025) EllapsedTime: 71.7 seconds RetCode: 0 Status: OK PackageFile: Dino_1.12.0.zip PackageFileSize: 961.3 KiB