Package: Dino Version: 1.12.0 Command: chmod a+r Dino -R && F:\biocbuild\bbs-3.20-bioc\R\bin\R.exe CMD build --keep-empty-dirs --no-resave-data Dino StartedAt: 2025-01-30 18:27:30 -0500 (Thu, 30 Jan 2025) EndedAt: 2025-01-30 18:31:24 -0500 (Thu, 30 Jan 2025) EllapsedTime: 233.5 seconds RetCode: 0 Status: OK PackageFile: Dino_1.12.0.tar.gz PackageFileSize: 914.9 KiB