Package: Dino Version: 1.12.0 Command: F:\biocbuild\bbs-3.20-bioc\R\bin\R.exe CMD INSTALL Dino StartedAt: 2025-01-30 16:49:59 -0500 (Thu, 30 Jan 2025) EndedAt: 2025-01-30 16:50:58 -0500 (Thu, 30 Jan 2025) EllapsedTime: 59.1 seconds RetCode: 0 Status: OK