Package: Dino Version: 1.12.0 Command: /home/biocbuild/R/R/bin/R CMD build --keep-empty-dirs --no-resave-data Dino StartedAt: 2025-01-30 23:11:50 -0000 (Thu, 30 Jan 2025) EndedAt: 2025-01-30 23:13:59 -0000 (Thu, 30 Jan 2025) EllapsedTime: 129.0 seconds RetCode: 0 Status: OK PackageFile: Dino_1.12.0.tar.gz PackageFileSize: 925.2 KiB