Package: Dino Version: 1.12.0 Command: /home/biocbuild/R/R/bin/R CMD check --install=check:Dino.install-out.txt --library=/home/biocbuild/R/R/site-library --no-vignettes --timings Dino_1.12.0.tar.gz StartedAt: 2025-01-31 05:43:38 -0000 (Fri, 31 Jan 2025) EndedAt: 2025-01-31 05:51:00 -0000 (Fri, 31 Jan 2025) EllapsedTime: 442.5 seconds RetCode: 0 Status: OK CheckDir: Dino.Rcheck Warnings: 0