Package: Dino Version: 1.12.0 Command: /home/biocbuild/R/R/bin/R CMD INSTALL Dino StartedAt: 2025-01-30 21:01:49 -0000 (Thu, 30 Jan 2025) EndedAt: 2025-01-30 21:02:38 -0000 (Thu, 30 Jan 2025) EllapsedTime: 48.9 seconds RetCode: 0 Status: OK