Package: DirichletMultinomial Version: 1.48.0 Command: /home/biocbuild/bbs-3.20-bioc/R/bin/R CMD build --keep-empty-dirs --no-resave-data --md5 DirichletMultinomial StartedAt: 2025-02-10 17:05:47 -0500 (Mon, 10 Feb 2025) EndedAt: 2025-02-10 17:06:02 -0500 (Mon, 10 Feb 2025) EllapsedTime: 15.0 seconds RetCode: 0 Status: OK PackageFile: DirichletMultinomial_1.48.0.tar.gz PackageFileSize: 1.059 MiB