Package: DirichletMultinomial Version: 1.48.0 Command: /home/biocbuild/bbs-3.20-bioc/R/bin/R CMD check --install=check:DirichletMultinomial.install-out.txt --library=/home/biocbuild/bbs-3.20-bioc/R/site-library --timings DirichletMultinomial_1.48.0.tar.gz StartedAt: 2025-02-03 21:53:08 -0500 (Mon, 03 Feb 2025) EndedAt: 2025-02-03 21:54:03 -0500 (Mon, 03 Feb 2025) EllapsedTime: 55.1 seconds RetCode: 0 Status: WARNINGS CheckDir: DirichletMultinomial.Rcheck Warnings: 1