Package: DirichletMultinomial Version: 1.48.0 Command: /home/biocbuild/bbs-3.20-bioc/R/bin/R CMD INSTALL DirichletMultinomial StartedAt: 2025-02-03 15:17:17 -0500 (Mon, 03 Feb 2025) EndedAt: 2025-02-03 15:17:33 -0500 (Mon, 03 Feb 2025) EllapsedTime: 15.9 seconds RetCode: 0 Status: OK