Package: DirichletMultinomial Version: 1.48.0 Command: chmod a+r DirichletMultinomial -R && F:\biocbuild\bbs-3.20-bioc\R\bin\R.exe CMD build --keep-empty-dirs --no-resave-data DirichletMultinomial StartedAt: 2025-02-03 18:43:19 -0500 (Mon, 03 Feb 2025) EndedAt: 2025-02-03 18:44:08 -0500 (Mon, 03 Feb 2025) EllapsedTime: 49.1 seconds RetCode: 0 Status: OK PackageFile: DirichletMultinomial_1.48.0.tar.gz PackageFileSize: 658.3 KiB