Package: DiscoRhythm Version: 1.22.0 Command: rm -rf DiscoRhythm.buildbin-libdir && mkdir DiscoRhythm.buildbin-libdir && /Users/biocbuild/BBS/utils/build-universal.sh DiscoRhythm_1.22.0.tar.gz /Library/Frameworks/R.framework/Resources/bin/R DiscoRhythm.buildbin-libdir StartedAt: 2025-02-05 15:37:37 -0500 (Wed, 05 Feb 2025) EndedAt: 2025-02-05 15:38:10 -0500 (Wed, 05 Feb 2025) EllapsedTime: 32.7 seconds RetCode: 0 Status: OK PackageFile: DiscoRhythm_1.22.0.tgz PackageFileSize: 1.909 MiB