Package: DiscoRhythm Version: 1.22.0 Command: /Library/Frameworks/R.framework/Resources/bin/R CMD INSTALL DiscoRhythm StartedAt: 2025-02-03 18:19:41 -0500 (Mon, 03 Feb 2025) EndedAt: 2025-02-03 18:20:10 -0500 (Mon, 03 Feb 2025) EllapsedTime: 28.9 seconds RetCode: 0 Status: OK