Package: DiscoRhythm Version: 1.22.0 Command: /Library/Frameworks/R.framework/Resources/bin/R CMD build --keep-empty-dirs --no-resave-data DiscoRhythm StartedAt: 2025-02-10 18:30:14 -0500 (Mon, 10 Feb 2025) EndedAt: 2025-02-10 18:32:07 -0500 (Mon, 10 Feb 2025) EllapsedTime: 113.2 seconds RetCode: 0 Status: OK PackageFile: DiscoRhythm_1.22.0.tar.gz PackageFileSize: 2.522 MiB