Package: DiscoRhythm Version: 1.22.0 Command: F:\biocbuild\bbs-3.20-bioc\R\bin\R.exe CMD check --no-multiarch --install=check:DiscoRhythm.install-out.txt --library=F:\biocbuild\bbs-3.20-bioc\R\library --no-vignettes --timings DiscoRhythm_1.22.0.tar.gz StartedAt: 2025-02-04 01:17:31 -0500 (Tue, 04 Feb 2025) EndedAt: 2025-02-04 01:21:44 -0500 (Tue, 04 Feb 2025) EllapsedTime: 252.9 seconds RetCode: 0 Status: OK CheckDir: DiscoRhythm.Rcheck Warnings: 0