Package: DiscoRhythm Version: 1.22.0 Command: F:\biocbuild\bbs-3.20-bioc\R\bin\R.exe CMD INSTALL DiscoRhythm StartedAt: 2025-02-10 17:08:26 -0500 (Mon, 10 Feb 2025) EndedAt: 2025-02-10 17:09:12 -0500 (Mon, 10 Feb 2025) EllapsedTime: 46.1 seconds RetCode: 0 Status: OK