Package: DominoEffect Version: 1.26.0 Command: rm -rf DominoEffect.buildbin-libdir && mkdir DominoEffect.buildbin-libdir && /Users/biocbuild/BBS/utils/build-universal.sh DominoEffect_1.26.0.tar.gz /Library/Frameworks/R.framework/Resources/bin/R DominoEffect.buildbin-libdir StartedAt: 2024-11-09 16:47:03 -0500 (Sat, 09 Nov 2024) EndedAt: 2024-11-09 16:47:20 -0500 (Sat, 09 Nov 2024) EllapsedTime: 17.3 seconds RetCode: 0 Status: OK PackageFile: DominoEffect_1.26.0.tgz PackageFileSize: 582.8 KiB