Package: DominoEffect Version: 1.26.0 Command: rm -rf DominoEffect.buildbin-libdir && mkdir DominoEffect.buildbin-libdir && /Users/biocbuild/BBS/utils/build-universal.sh DominoEffect_1.26.0.tar.gz /Library/Frameworks/R.framework/Resources/bin/R DominoEffect.buildbin-libdir StartedAt: 2025-02-04 12:51:32 -0500 (Tue, 04 Feb 2025) EndedAt: 2025-02-04 12:53:02 -0500 (Tue, 04 Feb 2025) EllapsedTime: 90.2 seconds RetCode: 0 Status: OK PackageFile: DominoEffect_1.26.0.tgz PackageFileSize: 582 KiB