Package: DominoEffect Version: 1.26.0 Command: /Library/Frameworks/R.framework/Resources/bin/R CMD check --install=check:DominoEffect.install-out.txt --library=/Library/Frameworks/R.framework/Resources/library --no-vignettes --timings DominoEffect_1.26.0.tar.gz StartedAt: 2025-02-11 02:46:14 -0500 (Tue, 11 Feb 2025) EndedAt: 2025-02-11 02:58:26 -0500 (Tue, 11 Feb 2025) EllapsedTime: 731.6 seconds RetCode: 0 Status: OK CheckDir: DominoEffect.Rcheck Warnings: 0