Package: DominoEffect Version: 1.26.0 Command: /Library/Frameworks/R.framework/Resources/bin/R CMD INSTALL DominoEffect StartedAt: 2025-02-10 15:47:10 -0500 (Mon, 10 Feb 2025) EndedAt: 2025-02-10 15:48:35 -0500 (Mon, 10 Feb 2025) EllapsedTime: 84.5 seconds RetCode: 0 Status: OK