Package: DominoEffect Version: 1.26.0 Command: /home/biocbuild/bbs-3.20-bioc/R/bin/R CMD build --keep-empty-dirs --no-resave-data --md5 DominoEffect StartedAt: 2025-02-03 17:14:53 -0500 (Mon, 03 Feb 2025) EndedAt: 2025-02-03 17:16:03 -0500 (Mon, 03 Feb 2025) EllapsedTime: 70.1 seconds RetCode: 0 Status: OK PackageFile: DominoEffect_1.26.0.tar.gz PackageFileSize: 474.1 KiB