Package: DominoEffect Version: 1.26.0 Command: /home/biocbuild/bbs-3.20-bioc/R/bin/R CMD check --install=check:DominoEffect.install-out.txt --library=/home/biocbuild/bbs-3.20-bioc/R/site-library --timings DominoEffect_1.26.0.tar.gz StartedAt: 2025-02-03 21:57:11 -0500 (Mon, 03 Feb 2025) EndedAt: 2025-02-03 22:03:47 -0500 (Mon, 03 Feb 2025) EllapsedTime: 396.4 seconds RetCode: 0 Status: OK CheckDir: DominoEffect.Rcheck Warnings: 0