Package: DominoEffect Version: 1.26.0 Command: /home/biocbuild/bbs-3.20-bioc/R/bin/R CMD INSTALL DominoEffect StartedAt: 2025-02-03 15:35:35 -0500 (Mon, 03 Feb 2025) EndedAt: 2025-02-03 15:36:16 -0500 (Mon, 03 Feb 2025) EllapsedTime: 40.8 seconds RetCode: 0 Status: OK