Package: DominoEffect Version: 1.26.0 Command: chmod a+r DominoEffect -R && F:\biocbuild\bbs-3.20-bioc\R\bin\R.exe CMD build --keep-empty-dirs --no-resave-data DominoEffect StartedAt: 2025-02-03 18:45:32 -0500 (Mon, 03 Feb 2025) EndedAt: 2025-02-03 18:46:52 -0500 (Mon, 03 Feb 2025) EllapsedTime: 79.7 seconds RetCode: 0 Status: OK PackageFile: DominoEffect_1.26.0.tar.gz PackageFileSize: 473.4 KiB