Package: DominoEffect Version: 1.26.0 Command: /home/biocbuild/R/R/bin/R CMD INSTALL DominoEffect StartedAt: 2025-02-10 20:37:15 -0000 (Mon, 10 Feb 2025) EndedAt: 2025-02-10 20:38:07 -0000 (Mon, 10 Feb 2025) EllapsedTime: 51.9 seconds RetCode: 0 Status: OK