Package: DropletUtils Version: 1.26.0 Command: rm -rf DropletUtils.buildbin-libdir && mkdir DropletUtils.buildbin-libdir && /Users/biocbuild/BBS/utils/build-universal.sh DropletUtils_1.26.0.tar.gz /Library/Frameworks/R.framework/Resources/bin/R DropletUtils.buildbin-libdir StartedAt: 2025-02-04 12:52:00 -0500 (Tue, 04 Feb 2025) EndedAt: 2025-02-04 12:54:22 -0500 (Tue, 04 Feb 2025) EllapsedTime: 142.3 seconds RetCode: 0 Status: OK PackageFile: DropletUtils_1.26.0.tgz PackageFileSize: 2.333 MiB