Package: DropletUtils Version: 1.26.0 Command: /Library/Frameworks/R.framework/Resources/bin/R CMD build --keep-empty-dirs --no-resave-data DropletUtils StartedAt: 2025-02-03 18:40:08 -0500 (Mon, 03 Feb 2025) EndedAt: 2025-02-03 18:43:03 -0500 (Mon, 03 Feb 2025) EllapsedTime: 174.0 seconds RetCode: 0 Status: OK PackageFile: DropletUtils_1.26.0.tar.gz PackageFileSize: 602.7 KiB