Package: DropletUtils Version: 1.26.0 Command: F:\biocbuild\bbs-3.20-bioc\R\bin\R.exe CMD INSTALL DropletUtils StartedAt: 2025-02-03 17:03:06 -0500 (Mon, 03 Feb 2025) EndedAt: 2025-02-03 17:07:51 -0500 (Mon, 03 Feb 2025) EllapsedTime: 285.8 seconds RetCode: 0 Status: OK