Package: DuplexDiscovereR Version: 1.0.0 Command: rm -rf DuplexDiscovereR.buildbin-libdir && mkdir DuplexDiscovereR.buildbin-libdir && /Users/biocbuild/BBS/utils/build-universal.sh DuplexDiscovereR_1.0.0.tar.gz /Library/Frameworks/R.framework/Resources/bin/R DuplexDiscovereR.buildbin-libdir StartedAt: 2025-02-01 14:45:32 -0500 (Sat, 01 Feb 2025) EndedAt: 2025-02-01 14:47:20 -0500 (Sat, 01 Feb 2025) EllapsedTime: 107.8 seconds RetCode: 0 Status: OK PackageFile: DuplexDiscovereR_1.0.0.tgz PackageFileSize: 1.531 MiB