Package: DuplexDiscovereR Version: 1.0.0 Command: /Library/Frameworks/R.framework/Resources/bin/R CMD build --keep-empty-dirs --no-resave-data DuplexDiscovereR StartedAt: 2025-01-30 22:58:59 -0500 (Thu, 30 Jan 2025) EndedAt: 2025-01-30 23:01:35 -0500 (Thu, 30 Jan 2025) EllapsedTime: 156.2 seconds RetCode: 0 Status: OK PackageFile: DuplexDiscovereR_1.0.0.tar.gz PackageFileSize: 991 KiB