Package: DuplexDiscovereR Version: 1.0.0 Command: /Library/Frameworks/R.framework/Resources/bin/R CMD INSTALL DuplexDiscovereR StartedAt: 2025-02-03 16:44:27 -0500 (Mon, 03 Feb 2025) EndedAt: 2025-02-03 16:46:57 -0500 (Mon, 03 Feb 2025) EllapsedTime: 149.9 seconds RetCode: 0 Status: OK