Package: DuplexDiscovereR Version: 1.0.0 Command: /home/biocbuild/bbs-3.20-bioc/R/bin/R CMD build --keep-empty-dirs --no-resave-data --md5 DuplexDiscovereR StartedAt: 2025-02-03 17:16:18 -0500 (Mon, 03 Feb 2025) EndedAt: 2025-02-03 17:18:17 -0500 (Mon, 03 Feb 2025) EllapsedTime: 119.2 seconds RetCode: 0 Status: OK PackageFile: DuplexDiscovereR_1.0.0.tar.gz PackageFileSize: 1012 KiB