Package: EBImage Version: 4.48.0 Command: /Library/Frameworks/R.framework/Resources/bin/R CMD build --keep-empty-dirs --no-resave-data EBImage StartedAt: 2025-02-10 18:38:12 -0500 (Mon, 10 Feb 2025) EndedAt: 2025-02-10 18:39:27 -0500 (Mon, 10 Feb 2025) EllapsedTime: 74.9 seconds RetCode: 0 Status: OK PackageFile: EBImage_4.48.0.tar.gz PackageFileSize: 6.296 MiB