Package: EBImage Version: 4.48.0 Command: F:\biocbuild\bbs-3.20-bioc\R\bin\R.exe CMD check --no-multiarch --install=check:EBImage.install-out.txt --library=F:\biocbuild\bbs-3.20-bioc\R\library --no-vignettes --timings EBImage_4.48.0.tar.gz StartedAt: 2025-02-04 01:28:19 -0500 (Tue, 04 Feb 2025) EndedAt: 2025-02-04 01:29:59 -0500 (Tue, 04 Feb 2025) EllapsedTime: 100.3 seconds RetCode: 0 Status: OK CheckDir: EBImage.Rcheck Warnings: 0