Package: EBImage Version: 4.48.0 Command: /home/biocbuild/R/R/bin/R CMD build --keep-empty-dirs --no-resave-data EBImage StartedAt: 2025-02-03 23:20:25 -0000 (Mon, 03 Feb 2025) EndedAt: 2025-02-03 23:21:10 -0000 (Mon, 03 Feb 2025) EllapsedTime: 45.0 seconds RetCode: 0 Status: OK PackageFile: EBImage_4.48.0.tar.gz PackageFileSize: 4.681 MiB