Package: EBImage Version: 4.48.0 Command: /home/biocbuild/R/R/bin/R CMD INSTALL EBImage StartedAt: 2025-02-03 20:53:30 -0000 (Mon, 03 Feb 2025) EndedAt: 2025-02-03 20:53:47 -0000 (Mon, 03 Feb 2025) EllapsedTime: 17.1 seconds RetCode: 0 Status: OK