Package: EBSEA Version: 1.34.0 Command: /Library/Frameworks/R.framework/Resources/bin/R CMD build --keep-empty-dirs --no-resave-data EBSEA StartedAt: 2025-02-03 23:00:44 -0500 (Mon, 03 Feb 2025) EndedAt: 2025-02-03 23:01:30 -0500 (Mon, 03 Feb 2025) EllapsedTime: 46.0 seconds RetCode: 0 Status: OK PackageFile: EBSEA_1.34.0.tar.gz PackageFileSize: 56.17 KiB