Package: EBSEA Version: 1.34.0 Command: /Library/Frameworks/R.framework/Resources/bin/R CMD check --install=check:EBSEA.install-out.txt --library=/Library/Frameworks/R.framework/Resources/library --no-vignettes --timings EBSEA_1.34.0.tar.gz StartedAt: 2025-02-04 18:46:28 -0500 (Tue, 04 Feb 2025) EndedAt: 2025-02-04 18:49:29 -0500 (Tue, 04 Feb 2025) EllapsedTime: 181.2 seconds RetCode: 0 Status: OK CheckDir: EBSEA.Rcheck Warnings: 0