Package: EBSEA Version: 1.34.0 Command: /Library/Frameworks/R.framework/Resources/bin/R CMD build --keep-empty-dirs --no-resave-data EBSEA StartedAt: 2025-01-30 18:51:48 -0500 (Thu, 30 Jan 2025) EndedAt: 2025-01-30 18:53:24 -0500 (Thu, 30 Jan 2025) EllapsedTime: 96.1 seconds RetCode: 0 Status: OK PackageFile: EBSEA_1.34.0.tar.gz PackageFileSize: 56.25 KiB