Package: EBSEA Version: 1.34.0 Command: /Library/Frameworks/R.framework/Resources/bin/R CMD INSTALL EBSEA StartedAt: 2025-01-30 15:32:16 -0500 (Thu, 30 Jan 2025) EndedAt: 2025-01-30 15:33:07 -0500 (Thu, 30 Jan 2025) EllapsedTime: 50.6 seconds RetCode: 0 Status: OK