Package: EBSEA Version: 1.34.0 Command: /home/biocbuild/bbs-3.20-bioc/R/bin/R CMD build --keep-empty-dirs --no-resave-data --md5 EBSEA StartedAt: 2025-02-03 17:17:07 -0500 (Mon, 03 Feb 2025) EndedAt: 2025-02-03 17:17:44 -0500 (Mon, 03 Feb 2025) EllapsedTime: 37.1 seconds RetCode: 0 Status: OK PackageFile: EBSEA_1.34.0.tar.gz PackageFileSize: 51.93 KiB