Package: EBSEA Version: 1.34.0 Command: /home/biocbuild/bbs-3.20-bioc/R/bin/R CMD INSTALL EBSEA StartedAt: 2025-02-03 15:29:06 -0500 (Mon, 03 Feb 2025) EndedAt: 2025-02-03 15:29:27 -0500 (Mon, 03 Feb 2025) EllapsedTime: 21.1 seconds RetCode: 0 Status: OK