Package: EBSEA Version: 1.33.0 Command: chmod a+r EBSEA -R && C:\Users\biocbuild\bbs-3.20-bioc\R\bin\R.exe CMD build --keep-empty-dirs --no-resave-data EBSEA StartedAt: 2024-07-15 17:41:18 -0400 (Mon, 15 Jul 2024) EndedAt: 2024-07-15 17:42:00 -0400 (Mon, 15 Jul 2024) EllapsedTime: 41.9 seconds RetCode: 0 Status: OK PackageFile: EBSEA_1.33.0.tar.gz PackageFileSize: 31.36 KiB