Package: EGSEA Version: 1.34.0 Command: /Library/Frameworks/R.framework/Resources/bin/R CMD build --keep-empty-dirs --no-resave-data EGSEA StartedAt: 2025-02-03 23:03:08 -0500 (Mon, 03 Feb 2025) EndedAt: 2025-02-03 23:08:32 -0500 (Mon, 03 Feb 2025) EllapsedTime: 323.5 seconds RetCode: 0 Status: OK PackageFile: EGSEA_1.34.0.tar.gz PackageFileSize: 2.085 MiB