Package: EGSEA Version: 1.34.0 Command: /Library/Frameworks/R.framework/Resources/bin/R CMD check --install=check:EGSEA.install-out.txt --library=/Library/Frameworks/R.framework/Resources/library --no-vignettes --timings EGSEA_1.34.0.tar.gz StartedAt: 2025-02-11 18:31:39 -0500 (Tue, 11 Feb 2025) EndedAt: 2025-02-11 18:40:58 -0500 (Tue, 11 Feb 2025) EllapsedTime: 559.0 seconds RetCode: 0 Status: OK CheckDir: EGSEA.Rcheck Warnings: 0