Package: EGSEA Version: 1.34.0 Command: /Library/Frameworks/R.framework/Resources/bin/R CMD build --keep-empty-dirs --no-resave-data EGSEA StartedAt: 2025-01-30 18:53:01 -0500 (Thu, 30 Jan 2025) EndedAt: 2025-01-30 19:02:22 -0500 (Thu, 30 Jan 2025) EllapsedTime: 561.6 seconds RetCode: 0 Status: OK PackageFile: EGSEA_1.34.0.tar.gz PackageFileSize: 2.09 MiB