Package: EGSEA Version: 1.34.0 Command: /home/biocbuild/bbs-3.20-bioc/R/bin/R CMD build --keep-empty-dirs --no-resave-data --md5 EGSEA StartedAt: 2025-02-03 17:17:37 -0500 (Mon, 03 Feb 2025) EndedAt: 2025-02-03 17:21:31 -0500 (Mon, 03 Feb 2025) EllapsedTime: 234.3 seconds RetCode: 0 Status: OK PackageFile: EGSEA_1.34.0.tar.gz PackageFileSize: 2.122 MiB