Package: EGSEA Version: 1.34.0 Command: /home/biocbuild/R/R/bin/R CMD build --keep-empty-dirs --no-resave-data EGSEA StartedAt: 2025-02-03 23:21:39 -0000 (Mon, 03 Feb 2025) EndedAt: 2025-02-03 23:26:41 -0000 (Mon, 03 Feb 2025) EllapsedTime: 302.1 seconds RetCode: 0 Status: OK PackageFile: EGSEA_1.34.0.tar.gz PackageFileSize: 2.106 MiB